BEGIN:VCALENDAR
VERSION:2.0
PRODID:-//Respiration Holotropique Dr Patrick BAUDIN - ECPv6.15.20//NONSGML v1.0//EN
CALSCALE:GREGORIAN
METHOD:PUBLISH
X-WR-CALNAME:Respiration Holotropique Dr Patrick BAUDIN
X-ORIGINAL-URL:https://patrick-baudin-home.com
X-WR-CALDESC:Évènements pour Respiration Holotropique Dr Patrick BAUDIN
REFRESH-INTERVAL;VALUE=DURATION:PT1H
X-Robots-Tag:noindex
X-PUBLISHED-TTL:PT1H
BEGIN:VTIMEZONE
TZID:UTC
BEGIN:STANDARD
TZOFFSETFROM:+0000
TZOFFSETTO:+0000
TZNAME:UTC
DTSTART:20240101T000000
END:STANDARD
END:VTIMEZONE
BEGIN:VEVENT
DTSTART;TZID=UTC:20250919T183000
DTEND;TZID=UTC:20250921T160000
DTSTAMP:20260422T162805
CREATED:20250726T054716Z
LAST-MODIFIED:20250824T051633Z
UID:1885-1758306600-1758470400@patrick-baudin-home.com
SUMMARY:WE Respiration - Finistère Sud
DESCRIPTION:Centre de soins Talmadenn
URL:https://patrick-baudin-home.com/event/chateaulin-finistere-sud
LOCATION:Centre de soins Talmadenn\, Châteaulin\, Finistère Sud
CATEGORIES:Week-end
ATTACH;FMTTYPE=image/webp:https://patrick-baudin-home.com/wp-content/uploads/2025/06/Talmadenn-Finistere-cadre.webp
ORGANIZER;CN="Dominique RONDEAU-BAUDIN":MAILTO:dominique-rondeau-baudin@orange.fr
END:VEVENT
END:VCALENDAR